BEGIN:VCALENDAR
VERSION:2.0
PRODID:-//Tukios.com/
BEGIN:VEVENT
UID:7e4ef230-3e24-4bb8-bef5-484c50e4081c@www.dengelmortuary.com
DTSTAMP:20260421T002130Z
DTSTART:20260424T180000Z
DTEND:20260424T190000Z
SUMMARY:Funeral Service
DESCRIPTION:
URL:https://www.dengelmortuary.com/obituaries/merlin-pearce
LOCATION: 305 N Pearl St  Paola KS 66071
GEO:38.5755476;-94.8765615
END:VEVENT
END:VCALENDAR