BEGIN:VCALENDAR
VERSION:2.0
PRODID:-//Tukios.com/
BEGIN:VEVENT
UID:2ac38aeb-6b37-45ba-9f87-39c13c6e7b88@www.dengelmortuary.com
DTSTAMP:20260421T002027Z
DTSTART:20260423T230000Z
DTEND:20260424T010000Z
SUMMARY:Visitation
DESCRIPTION:
URL:https://www.dengelmortuary.com/obituaries/merlin-pearce
LOCATION: 305 N Pearl St  Paola KS 66071
GEO:38.5755476;-94.8765615
END:VEVENT
END:VCALENDAR