BEGIN:VCALENDAR
VERSION:2.0
PRODID:-//Tukios.com/
BEGIN:VEVENT
UID:6da6fe59-e312-4e19-8f22-566df6b964a2@www.dengelmortuary.com
DTSTAMP:20260423T182820Z
DTSTART:20260620T170000Z
DTEND:20260620T180000Z
SUMMARY:Graveside Service
DESCRIPTION:
URL:https://www.dengelmortuary.com/obituaries/delores-mages
LOCATION: 1310 East Logan Street  Ottawa KS 66067
GEO:38.6221981;-95.2511421
END:VEVENT
END:VCALENDAR