BEGIN:VCALENDAR
VERSION:2.0
PRODID:-//Tukios.com/
BEGIN:VEVENT
UID:9c3ec699-d248-4508-b424-db9f466a4b53@www.dengelmortuary.com
DTSTAMP:20260423T001750Z
DTSTART:20260502T190000Z
DTEND:20260502T200000Z
SUMMARY:Memorial Service
DESCRIPTION:
URL:https://www.dengelmortuary.com/obituaries/cathy-kooser
LOCATION:First Christian Church of Louisburg 602 North 1st Street  
	Louisburg KS 66053
GEO:38.6218923;-94.6825783
END:VEVENT
END:VCALENDAR