BEGIN:VCALENDAR
VERSION:2.0
PRODID:-//Tukios.com/
BEGIN:VEVENT
UID:b79240bd-38ab-458b-a9eb-00f60f8d5c42@www.dengelmortuary.com
DTSTAMP:20260421T085107Z
DTSTART:20260425T160000Z
DTEND:20260425T170000Z
SUMMARY:Memorial Service
DESCRIPTION:
URL:https://www.dengelmortuary.com/obituaries/arnola-phillips
LOCATION: 249 North Metcalf Road  Louisburg KS 66053
GEO:38.6237802;-94.6745055
END:VEVENT
END:VCALENDAR